BEGIN:VCALENDAR
VERSION:2.0
PRODID:-//Ludgvan Horticultural Society - ECPv6.15.18//NONSGML v1.0//EN
CALSCALE:GREGORIAN
METHOD:PUBLISH
X-WR-CALNAME:Ludgvan Horticultural Society
X-ORIGINAL-URL:https://ludgvanhorticulturalsociety.org
X-WR-CALDESC:Events for Ludgvan Horticultural Society
REFRESH-INTERVAL;VALUE=DURATION:PT1H
X-Robots-Tag:noindex
X-PUBLISHED-TTL:PT1H
BEGIN:VTIMEZONE
TZID:Europe/London
BEGIN:DAYLIGHT
TZOFFSETFROM:+0000
TZOFFSETTO:+0100
TZNAME:BST
DTSTART:20170326T010000
END:DAYLIGHT
BEGIN:STANDARD
TZOFFSETFROM:+0100
TZOFFSETTO:+0000
TZNAME:GMT
DTSTART:20171029T010000
END:STANDARD
BEGIN:DAYLIGHT
TZOFFSETFROM:+0000
TZOFFSETTO:+0100
TZNAME:BST
DTSTART:20180325T010000
END:DAYLIGHT
BEGIN:STANDARD
TZOFFSETFROM:+0100
TZOFFSETTO:+0000
TZNAME:GMT
DTSTART:20181028T010000
END:STANDARD
BEGIN:DAYLIGHT
TZOFFSETFROM:+0000
TZOFFSETTO:+0100
TZNAME:BST
DTSTART:20190331T010000
END:DAYLIGHT
BEGIN:STANDARD
TZOFFSETFROM:+0100
TZOFFSETTO:+0000
TZNAME:GMT
DTSTART:20191027T010000
END:STANDARD
BEGIN:DAYLIGHT
TZOFFSETFROM:+0000
TZOFFSETTO:+0100
TZNAME:BST
DTSTART:20200329T010000
END:DAYLIGHT
BEGIN:STANDARD
TZOFFSETFROM:+0100
TZOFFSETTO:+0000
TZNAME:GMT
DTSTART:20201025T010000
END:STANDARD
BEGIN:DAYLIGHT
TZOFFSETFROM:+0000
TZOFFSETTO:+0100
TZNAME:BST
DTSTART:20210328T010000
END:DAYLIGHT
BEGIN:STANDARD
TZOFFSETFROM:+0100
TZOFFSETTO:+0000
TZNAME:GMT
DTSTART:20211031T010000
END:STANDARD
BEGIN:DAYLIGHT
TZOFFSETFROM:+0000
TZOFFSETTO:+0100
TZNAME:BST
DTSTART:20220327T010000
END:DAYLIGHT
BEGIN:STANDARD
TZOFFSETFROM:+0100
TZOFFSETTO:+0000
TZNAME:GMT
DTSTART:20221030T010000
END:STANDARD
BEGIN:DAYLIGHT
TZOFFSETFROM:+0000
TZOFFSETTO:+0100
TZNAME:BST
DTSTART:20230326T010000
END:DAYLIGHT
BEGIN:STANDARD
TZOFFSETFROM:+0100
TZOFFSETTO:+0000
TZNAME:GMT
DTSTART:20231029T010000
END:STANDARD
BEGIN:DAYLIGHT
TZOFFSETFROM:+0000
TZOFFSETTO:+0100
TZNAME:BST
DTSTART:20240331T010000
END:DAYLIGHT
BEGIN:STANDARD
TZOFFSETFROM:+0100
TZOFFSETTO:+0000
TZNAME:GMT
DTSTART:20241027T010000
END:STANDARD
BEGIN:DAYLIGHT
TZOFFSETFROM:+0000
TZOFFSETTO:+0100
TZNAME:BST
DTSTART:20250330T010000
END:DAYLIGHT
BEGIN:STANDARD
TZOFFSETFROM:+0100
TZOFFSETTO:+0000
TZNAME:GMT
DTSTART:20251026T010000
END:STANDARD
BEGIN:DAYLIGHT
TZOFFSETFROM:+0000
TZOFFSETTO:+0100
TZNAME:BST
DTSTART:20260329T010000
END:DAYLIGHT
BEGIN:STANDARD
TZOFFSETFROM:+0100
TZOFFSETTO:+0000
TZNAME:GMT
DTSTART:20261025T010000
END:STANDARD
END:VTIMEZONE
BEGIN:VEVENT
DTSTART;TZID=Europe/London:20251208T193000
DTEND;TZID=Europe/London:20251208T210000
DTSTAMP:20260421T235649
CREATED:20251017T085247Z
LAST-MODIFIED:20251017T085247Z
UID:1846-1765222200-1765227600@ludgvanhorticulturalsociety.org
SUMMARY:Making our own Christmas Floral Displays
DESCRIPTION:Bring along some greenery\, baubles\, pine cones etc and take part in this workshop of ideas on how to create floral decoration for Christmas.
URL:https://ludgvanhorticulturalsociety.org/event/making-our-own-christmas-floral-displays/
LOCATION:The Murley Hall\, Ludgvan Churchtown\, Opposite the White Hart Public house\, Ludgvan Penzance\, Cornwall\, TR20 8EY\, United Kingdom
ORGANIZER;CN="Ludgvan Horticultural Society":MAILTO:info@ludgvanhorticulturalsociety.org
END:VEVENT
BEGIN:VEVENT
DTSTART;TZID=Europe/London:20251110T193000
DTEND;TZID=Europe/London:20251110T210000
DTSTAMP:20260421T235649
CREATED:20251017T084218Z
LAST-MODIFIED:20251017T091904Z
UID:1844-1762803000-1762808400@ludgvanhorticulturalsociety.org
SUMMARY:Newquay Orchard - with Hetty Ninnis
DESCRIPTION:An illustrated talk given by Hetty Ninnis \nAt the Murley Hall\, Ludgvan 7.30pm
URL:https://ludgvanhorticulturalsociety.org/event/newquay-orchard-monday-10th-november/
LOCATION:The Murley Hall\, Ludgvan Churchtown\, Opposite the White Hart Public house\, Ludgvan Penzance\, Cornwall\, TR20 8EY\, United Kingdom
ORGANIZER;CN="Ludgvan Horticultural Society":MAILTO:info@ludgvanhorticulturalsociety.org
END:VEVENT
BEGIN:VEVENT
DTSTART;TZID=Europe/London:20251017T090451
DTEND;TZID=Europe/London:20251017T090451
DTSTAMP:20260421T235649
CREATED:20251017T085431Z
LAST-MODIFIED:20251017T090451Z
UID:1848-1760691891-1760691891@ludgvanhorticulturalsociety.org
SUMMARY:We have no meeting in January 2026
DESCRIPTION:
URL:https://ludgvanhorticulturalsociety.org/event/there-will-be-no-meeting-in-january-2026/
END:VEVENT
BEGIN:VEVENT
DTSTART;TZID=Europe/London:20221205T193000
DTEND;TZID=Europe/London:20221205T210000
DTSTAMP:20260421T235649
CREATED:20221028T150406Z
LAST-MODIFIED:20221028T150406Z
UID:1402-1670268600-1670274000@ludgvanhorticulturalsociety.org
SUMMARY:December Talk
DESCRIPTION:Our Christmas themed demonstration this year is by Sarah Reed entitled ” Making your festive display” \nAt the Murley Hall 7.30 start. Refreshments.
URL:https://ludgvanhorticulturalsociety.org/event/december-talk/
LOCATION:The Murley Hall\, Ludgvan Churchtown\, Opposite the White Hart Public house\, Ludgvan Penzance\, Cornwall\, TR20 8EY\, United Kingdom
ORGANIZER;CN="Ludgvan Horticultural Society":MAILTO:info@ludgvanhorticulturalsociety.org
END:VEVENT
BEGIN:VEVENT
DTSTART;TZID=Europe/London:20221114T143000
DTEND;TZID=Europe/London:20221114T163000
DTSTAMP:20260421T235649
CREATED:20221028T145819Z
LAST-MODIFIED:20221028T145819Z
UID:1400-1668436200-1668443400@ludgvanhorticulturalsociety.org
SUMMARY:Committee Meeting
DESCRIPTION:November committee meeting at Rosewithen 2.30pm
URL:https://ludgvanhorticulturalsociety.org/event/committee-meeting-2/
ORGANIZER;CN="Ludgvan Horticultural Society":MAILTO:info@ludgvanhorticulturalsociety.org
END:VEVENT
BEGIN:VEVENT
DTSTART;TZID=Europe/London:20221107T193000
DTEND;TZID=Europe/London:20221107T210000
DTSTAMP:20260421T235649
CREATED:20221027T135037Z
LAST-MODIFIED:20221027T135046Z
UID:1391-1667849400-1667854800@ludgvanhorticulturalsociety.org
SUMMARY:Re-development of the walled garden at Trelissick
DESCRIPTION:Re-development of the walled garden at Trelissick\nA talk by John Lanyon.\nAt The Murley Hall in Ludgvan at 7.30pm
URL:https://ludgvanhorticulturalsociety.org/event/re-development-of-the-walled-garden-at-trelissick/
LOCATION:The Murley Hall\, Ludgvan Churchtown\, Opposite the White Hart Public house\, Ludgvan Penzance\, Cornwall\, TR20 8EY\, United Kingdom
ORGANIZER;CN="Ludgvan Horticultural Society":MAILTO:info@ludgvanhorticulturalsociety.org
END:VEVENT
BEGIN:VEVENT
DTSTART;VALUE=DATE:20220806
DTEND;VALUE=DATE:20220807
DTSTAMP:20260421T235649
CREATED:20220616T075621Z
LAST-MODIFIED:20220616T075621Z
UID:1374-1659744000-1659830399@ludgvanhorticulturalsociety.org
SUMMARY:Ludgvan Horticultural Show
DESCRIPTION:
URL:https://ludgvanhorticulturalsociety.org/event/ludgvan-horticultural-show/
LOCATION:Ludgvan Parish Chuch\, Churchtown\, Ludgvan
ORGANIZER;CN="Ludgvan Horticultural Society":MAILTO:info@ludgvanhorticulturalsociety.org
END:VEVENT
BEGIN:VEVENT
DTSTART;TZID=Europe/London:20220307T193000
DTEND;TZID=Europe/London:20220307T213000
DTSTAMP:20260421T235649
CREATED:20220211T095606Z
LAST-MODIFIED:20220211T095606Z
UID:1303-1646681400-1646688600@ludgvanhorticulturalsociety.org
SUMMARY:AGM
DESCRIPTION:
URL:https://ludgvanhorticulturalsociety.org/event/agm/
LOCATION:The Murley Hall\, Ludgvan Churchtown\, Opposite the White Hart Public house\, Ludgvan Penzance\, Cornwall\, TR20 8EY\, United Kingdom
ORGANIZER;CN="Ludgvan Horticultural Society":MAILTO:info@ludgvanhorticulturalsociety.org
END:VEVENT
BEGIN:VEVENT
DTSTART;TZID=Europe/London:20200725T080000
DTEND;TZID=Europe/London:20200725T233000
DTSTAMP:20260421T235649
CREATED:20200529T171401Z
LAST-MODIFIED:20200529T171418Z
UID:560-1595664000-1595719800@ludgvanhorticulturalsociety.org
SUMMARY:New on-line photo show
DESCRIPTION:Closing date for sending in your photo entries midnight on Saturday 25th July 2020 \nAllotment Anemones
URL:https://ludgvanhorticulturalsociety.org/event/new-on-line-photo-show/
ORGANIZER;CN="Ludgvan Horticultural Society":MAILTO:info@ludgvanhorticulturalsociety.org
END:VEVENT
BEGIN:VEVENT
DTSTART;TZID=Europe/London:20190107T143000
DTEND;TZID=Europe/London:20190107T160000
DTSTAMP:20260421T235649
CREATED:20181213T170317Z
LAST-MODIFIED:20181216T122057Z
UID:262-1546871400-1546876800@ludgvanhorticulturalsociety.org
SUMMARY:January illustrated talk
DESCRIPTION:Our January talk is by Mr Michael Foy\, entitled\, ” The experiences of a Britain in Bloom Judge” . \nPlease note that this talk will be in the afternoon\, at 2.30pm\, in the Murley Hall\, Ludgvan Churchtown. \nEntry free to members. £2.50 for visitors. All welcome.
URL:https://ludgvanhorticulturalsociety.org/event/january-illustrated-talk/
ORGANIZER;CN="Ludgvan Horticultural Society":MAILTO:info@ludgvanhorticulturalsociety.org
END:VEVENT
BEGIN:VEVENT
DTSTART;TZID=Europe/London:20180910T193000
DTEND;TZID=Europe/London:20180910T193000
DTSTAMP:20260421T235649
CREATED:20180827T145310Z
LAST-MODIFIED:20180827T145310Z
UID:207-1536607800-1536607800@ludgvanhorticulturalsociety.org
SUMMARY:Committee Meeting
DESCRIPTION:
URL:https://ludgvanhorticulturalsociety.org/event/committee-meeting/
ORGANIZER;CN="Ludgvan Horticultural Society":MAILTO:info@ludgvanhorticulturalsociety.org
END:VEVENT
BEGIN:VEVENT
DTSTART;TZID=Europe/London:20180804T143000
DTEND;TZID=Europe/London:20180804T170000
DTSTAMP:20260421T235649
CREATED:20180712T152935Z
LAST-MODIFIED:20180712T160036Z
UID:175-1533393000-1533402000@ludgvanhorticulturalsociety.org
SUMMARY:115th Annual Horticultural Show
DESCRIPTION:Here we are\, the culmination of a years hard work to bring all our flowers\, vegetables\, home cooking\, handicrafts\, photography and artwork to the Ludgvan Community Hall. Not just for the competitive types with their longest runner beans and most beautiful cut blooms\, the Ludgvan show is a true showcase for the community. \nThe villages of Crowlas & Ludgvan need events like this to bring the community together\, to set aside a few hours to meet and socialise with each other and enjoy the fruits of others labours such as works of art\, lovingly embroidered handicrafts\, pots of scrummy jams and homemade pasties! \nThe show also gives a platform for the younger members of our community to proudly display their creative talents. Each year Ludgvan Primary School produce some delightful works of art to decorate the walls of the hall and there are children’s classes in home produce\, handicrafts\, floral art\, photography and art. We are delighted to encourage the next generation to enjoy creativity\, gardening and sense of community. \nPlease come along and support this long running local event\, by paying £2 to enter and then by buying a raffle ticket you will be helping to ensure that the Annual Show continues for years to come.
URL:https://ludgvanhorticulturalsociety.org/event/115th-annual-horticultural-show/
LOCATION:The Murley Hall\, Ludgvan Churchtown\, Opposite the White Hart Public house\, Ludgvan Penzance\, Cornwall\, TR20 8EY\, United Kingdom
ORGANIZER;CN="Ludgvan Horticultural Society":MAILTO:info@ludgvanhorticulturalsociety.org
END:VEVENT
END:VCALENDAR