BEGIN:VCALENDAR
VERSION:2.0
PRODID:-//Ludgvan Horticultural Society - ECPv6.15.18//NONSGML v1.0//EN
CALSCALE:GREGORIAN
METHOD:PUBLISH
X-ORIGINAL-URL:https://ludgvanhorticulturalsociety.org
X-WR-CALDESC:Events for Ludgvan Horticultural Society
REFRESH-INTERVAL;VALUE=DURATION:PT1H
X-Robots-Tag:noindex
X-PUBLISHED-TTL:PT1H
BEGIN:VTIMEZONE
TZID:Europe/London
BEGIN:DAYLIGHT
TZOFFSETFROM:+0000
TZOFFSETTO:+0100
TZNAME:BST
DTSTART:20250330T010000
END:DAYLIGHT
BEGIN:STANDARD
TZOFFSETFROM:+0100
TZOFFSETTO:+0000
TZNAME:GMT
DTSTART:20251026T010000
END:STANDARD
BEGIN:DAYLIGHT
TZOFFSETFROM:+0000
TZOFFSETTO:+0100
TZNAME:BST
DTSTART:20260329T010000
END:DAYLIGHT
BEGIN:STANDARD
TZOFFSETFROM:+0100
TZOFFSETTO:+0000
TZNAME:GMT
DTSTART:20261025T010000
END:STANDARD
BEGIN:DAYLIGHT
TZOFFSETFROM:+0000
TZOFFSETTO:+0100
TZNAME:BST
DTSTART:20270328T010000
END:DAYLIGHT
BEGIN:STANDARD
TZOFFSETFROM:+0100
TZOFFSETTO:+0000
TZNAME:GMT
DTSTART:20271031T010000
END:STANDARD
END:VTIMEZONE
BEGIN:VEVENT
DTSTART;TZID=Europe/London:20260413T193000
DTEND;TZID=Europe/London:20260413T210000
DTSTAMP:20260421T215833
CREATED:20260108T111425Z
LAST-MODIFIED:20260108T111425Z
UID:1892-1776108600-1776114000@ludgvanhorticulturalsociety.org
SUMMARY:Tricia Howard - My Favourite Flowers
DESCRIPTION:
URL:https://ludgvanhorticulturalsociety.org/event/tricia-howard-my-favourite-flowers/
END:VEVENT
BEGIN:VEVENT
DTSTART;TZID=Europe/London:20260511T193000
DTEND;TZID=Europe/London:20260511T210000
DTSTAMP:20260421T215833
CREATED:20260108T111619Z
LAST-MODIFIED:20260401T150011Z
UID:1894-1778527800-1778533200@ludgvanhorticulturalsociety.org
SUMMARY:Ric Reilly 'My passion for Orchids' followed by our AGM
DESCRIPTION:Our Annual General Meeting will follow the talk tonight. \nA chance for members of the Society to stand for election to the Committee\, for members to elect the Committee to run the Society for the next 12 months. \nIf you have a little spare time and some ideas to make a difference\, to fit the Society for the future\, do come along to the AGM and make yourself known to the Committee. \nThe Annual Horticultural Show is a showpiece of all that is good in a vibrant community such as Ludgvan. Celebrating horticulture of course\, but so much more. An opportunity for young people to gain skills in home cooking\, craft making in wood\, metal & other media\, Art & Photography etc. \nLudgvan Horticultural Society welcomes new members of all ages\, monthly meetings at the Murley Hall & visits to local gardens in the Spring & Summer.
URL:https://ludgvanhorticulturalsociety.org/event/any-gardening-questions-with-mark-holman/
END:VEVENT
BEGIN:VEVENT
DTSTART;TZID=Europe/London:20260523T100000
DTEND;TZID=Europe/London:20260523T120000
DTSTAMP:20260421T215833
CREATED:20260213T113053Z
LAST-MODIFIED:20260213T113053Z
UID:1906-1779530400-1779537600@ludgvanhorticulturalsociety.org
SUMMARY:Plant Sale
DESCRIPTION:
URL:https://ludgvanhorticulturalsociety.org/event/plant-sale/
LOCATION:The Murley Hall\, Ludgvan Churchtown\, Opposite the White Hart Public house\, Ludgvan Penzance\, Cornwall\, TR20 8EY\, United Kingdom
ORGANIZER;CN="Ludgvan Horticultural Society":MAILTO:info@ludgvanhorticulturalsociety.org
END:VEVENT
BEGIN:VEVENT
DTSTART;TZID=Europe/London:20260801T140000
DTEND;TZID=Europe/London:20260801T170000
DTSTAMP:20260421T215833
CREATED:20260223T200800Z
LAST-MODIFIED:20260223T200800Z
UID:1919-1785592800-1785603600@ludgvanhorticulturalsociety.org
SUMMARY:Ludgvan Horticultural Show
DESCRIPTION:
URL:https://ludgvanhorticulturalsociety.org/event/ludgvan-horticultural-show-2/
LOCATION:Ludgvan Parish Chuch\, Churchtown\, Ludgvan
ORGANIZER;CN="Ludgvan Horticultural Society":MAILTO:info@ludgvanhorticulturalsociety.org
END:VEVENT
END:VCALENDAR